BEGIN:VCALENDAR
VERSION:2.0
PRODID:-//Codetots - ECPv6.15.20//NONSGML v1.0//EN
CALSCALE:GREGORIAN
METHOD:PUBLISH
X-WR-CALNAME:Codetots
X-ORIGINAL-URL:https://codetots.com
X-WR-CALDESC:Events for Codetots
REFRESH-INTERVAL;VALUE=DURATION:PT1H
X-Robots-Tag:noindex
X-PUBLISHED-TTL:PT1H
BEGIN:VTIMEZONE
TZID:Asia/Tokyo
BEGIN:STANDARD
TZOFFSETFROM:+0900
TZOFFSETTO:+0900
TZNAME:JST
DTSTART:20230101T000000
END:STANDARD
END:VTIMEZONE
BEGIN:VEVENT
DTSTART;TZID=Asia/Tokyo:20241018T100000
DTEND;TZID=Asia/Tokyo:20241018T170000
DTSTAMP:20260422T083820
CREATED:20240703T074406Z
LAST-MODIFIED:20240703T074406Z
UID:10231-1729245600-1729270800@codetots.com
SUMMARY:Join us at the 2024 Knowledge Olympics
DESCRIPTION:An online job fair is a virtual event where job seekers can connect with employers and recruiters to learn about job opportunities\, submit resumes\, and potentially interview for open positions.Its a platform for job seekers to meet with employers and learn about job opportunities in a face-to-face setting. They also allow employers to connect with potential candidates and fill open positions quickly. Additionally\, job fairs can be a useful way for job seekers to learn about different companies\, industries\, and career paths\, and to network with other professionals in their field. Overall\, job fairs can be an efficient and effective way for both job seekers and employers to find the right match. Online job fairs can be accessed from any location with internet access and are typically conducted through a web-based platform or video conferencing software. They can be useful for job seekers who are unable to attend in-person job fairs due to distance or mobility issues\, and for employers looking to reach a larger and more diverse pool of job candidates. Please Register & save your spot!
URL:https://codetots.com/event/join-us-at-the-2024-knowledge-olympics/
LOCATION:衆議院第一議員会館　 国際会議場\, Tokyo\, Japan
END:VEVENT
BEGIN:VEVENT
DTSTART;TZID=Asia/Tokyo:20250312T140000
DTEND;TZID=Asia/Tokyo:20250312T170000
DTSTAMP:20260422T083820
CREATED:20250310T115545Z
LAST-MODIFIED:20250311T122746Z
UID:13367-1741788000-1741798800@codetots.com
SUMMARY:International Women Day 2025
DESCRIPTION:An online job fair is a virtual event where job seekers can connect with employers and recruiters to learn about job opportunities\, submit resumes\, and potentially interview for open positions.Its a platform for job seekers to meet with employers and learn about job opportunities in a face-to-face setting. They also allow employers to connect with potential candidates and fill open positions quickly. Additionally\, job fairs can be a useful way for job seekers to learn about different companies\, industries\, and career paths\, and to network with other professionals in their field. Overall\, job fairs can be an efficient and effective way for both job seekers and employers to find the right match. Online job fairs can be accessed from any location with internet access and are typically conducted through a web-based platform or video conferencing software. They can be useful for job seekers who are unable to attend in-person job fairs due to distance or mobility issues\, and for employers looking to reach a larger and more diverse pool of job candidates. Please Register & save your spot!
URL:https://codetots.com/event/international-women-day-2025/
END:VEVENT
END:VCALENDAR