BEGIN:VCALENDAR
VERSION:2.0
PRODID:-//Codetots - ECPv6.15.20//NONSGML v1.0//EN
CALSCALE:GREGORIAN
METHOD:PUBLISH
X-WR-CALNAME:Codetots
X-ORIGINAL-URL:https://codetots.com
X-WR-CALDESC:Events for Codetots
REFRESH-INTERVAL;VALUE=DURATION:PT1H
X-Robots-Tag:noindex
X-PUBLISHED-TTL:PT1H
BEGIN:VTIMEZONE
TZID:Asia/Tokyo
BEGIN:STANDARD
TZOFFSETFROM:+0900
TZOFFSETTO:+0900
TZNAME:JST
DTSTART:20210101T000000
END:STANDARD
END:VTIMEZONE
BEGIN:VEVENT
DTSTART;TZID=Asia/Tokyo:20220722T160000
DTEND;TZID=Asia/Tokyo:20220910T170000
DTSTAMP:20260422T051501
CREATED:20220518T025745Z
LAST-MODIFIED:20220602T165150Z
UID:5394-1658505600-1662829200@codetots.com
SUMMARY:Japan Tech Student Exchange Program
DESCRIPTION:Japan Tech Student Exchange Program  \nDuration : 2 months ( 8 Sessions) \nProgram Fees : Sponsored by JIWF   \nProgram Period : July 22- Sep 10\, 2022  \nFriday 7:00 – 8:00 AM \n  \nRegistration Fee : 1250 INR \n1. Technology in IOT System : Prof. Hiroshi \n2. Technology in IOT System : Prof. Ueda \n3. Technology in IOT System : Prof. Sakai \n4. Technology in IOT System : Dr. Hattori \n5. Technology in IOT System : Prof. Shiokawa \n6. Human Robot Interaction  : Prof. Saegusha Sanshi \n7. Sustainable Development Goals in Tech : Prof Modi \n*CodeTots Japan will be accepting the application till 31st May 2022. \nJapan India Women Forum has a mission to promote girl’s and women’s empowerment around the world\, with a focus on Sustainable Development Goals. It will be great opportunity for students as employers value virtue such as adaptability\, cultural awareness and transversal skills. \n  \nFor More information please mail us at help@www.codetots.com \n  \n 
URL:https://codetots.com/event/japan-tech-exchange-program/
ATTACH;FMTTYPE=image/png:https://codetots.com/wp-content/uploads/2022/05/Japan-Tech-Student-Exchange-M.png
ORGANIZER;CN="Codetots":MAILTO:help@www.codetots.com
END:VEVENT
END:VCALENDAR